Package: MSPrep Version: 1.16.0 Command: /home/biocbuild/R/R/bin/R CMD check --install=check:MSPrep.install-out.txt --library=/home/biocbuild/R/R/site-library --no-vignettes --timings MSPrep_1.16.0.tar.gz StartedAt: 2025-01-31 08:25:44 -0000 (Fri, 31 Jan 2025) EndedAt: 2025-01-31 08:34:54 -0000 (Fri, 31 Jan 2025) EllapsedTime: 549.8 seconds RetCode: 1 Status: ERROR CheckDir: MSPrep.Rcheck Warnings: NA