Package: MSPrep Version: 1.18.0 Command: rm -rf MSPrep.buildbin-libdir && mkdir MSPrep.buildbin-libdir && /Users/biocbuild/BBS/utils/build-universal.sh MSPrep_1.18.0.tar.gz /Library/Frameworks/R.framework/Resources/bin/R MSPrep.buildbin-libdir StartedAt: 2025-05-06 13:05:27 -0400 (Tue, 06 May 2025) EndedAt: 2025-05-06 13:06:50 -0400 (Tue, 06 May 2025) EllapsedTime: 82.6 seconds RetCode: 0 Status: OK PackageFile: MSPrep_1.18.0.tgz PackageFileSize: 1.636 MiB