Package: MSPrep Version: 1.18.0 Command: rm -rf MSPrep.buildbin-libdir && mkdir MSPrep.buildbin-libdir && /Users/biocbuild/BBS/utils/build-universal.sh MSPrep_1.18.0.tar.gz /Library/Frameworks/R.framework/Resources/bin/R MSPrep.buildbin-libdir StartedAt: 2025-04-21 22:43:40 -0400 (Mon, 21 Apr 2025) EndedAt: 2025-04-21 22:43:55 -0400 (Mon, 21 Apr 2025) EllapsedTime: 15.3 seconds RetCode: 0 Status: OK PackageFile: MSPrep_1.18.0.tgz PackageFileSize: 1.636 MiB