Package: MPAC Version: 1.2.0 Command: chmod a+r MPAC -R && E:\biocbuild\bbs-3.21-bioc\R\bin\R.exe CMD build --keep-empty-dirs --no-resave-data MPAC StartedAt: 2025-08-14 20:36:46 -0400 (Thu, 14 Aug 2025) EndedAt: 2025-08-14 20:38:18 -0400 (Thu, 14 Aug 2025) EllapsedTime: 92.5 seconds RetCode: 0 Status: OK PackageFile: MPAC_1.2.0.tar.gz PackageFileSize: 846.5 KiB