Package: MOSim Version: 2.4.0 Command: chmod a+r MOSim -R && E:\biocbuild\bbs-3.21-bioc\R\bin\R.exe CMD build --keep-empty-dirs --no-resave-data MOSim StartedAt: 2025-08-14 20:34:09 -0400 (Thu, 14 Aug 2025) EndedAt: 2025-08-14 20:43:00 -0400 (Thu, 14 Aug 2025) EllapsedTime: 530.9 seconds RetCode: 0 Status: OK PackageFile: MOSim_2.4.0.tar.gz PackageFileSize: 6.358 MiB