Package: MOSim Version: 2.4.0 Command: rm -rf MOSim.buildbin-libdir && mkdir MOSim.buildbin-libdir && E:\biocbuild\bbs-3.21-bioc\R\bin\R.exe CMD INSTALL --build --library=MOSim.buildbin-libdir MOSim_2.4.0.tar.gz StartedAt: 2025-08-15 09:45:22 -0400 (Fri, 15 Aug 2025) EndedAt: 2025-08-15 09:46:30 -0400 (Fri, 15 Aug 2025) EllapsedTime: 67.3 seconds RetCode: 0 Status: OK PackageFile: MOSim_2.4.0.zip PackageFileSize: 7.187 MiB