Package: MOSClip Version: 1.2.0 Command: /Library/Frameworks/R.framework/Resources/bin/R CMD build --keep-empty-dirs --no-resave-data MOSClip StartedAt: 2025-04-21 17:33:55 -0400 (Mon, 21 Apr 2025) EndedAt: 2025-04-21 17:36:32 -0400 (Mon, 21 Apr 2025) EllapsedTime: 156.6 seconds RetCode: 0 Status: OK PackageFile: MOSClip_1.2.0.tar.gz PackageFileSize: 2.126 MiB