Package: MOSClip Version: 1.2.0 Command: /Library/Frameworks/R.framework/Resources/bin/R CMD check --install=check:MOSClip.install-out.txt --library=/Library/Frameworks/R.framework/Resources/library --no-vignettes --timings MOSClip_1.2.0.tar.gz StartedAt: 2025-05-10 01:54:45 -0400 (Sat, 10 May 2025) EndedAt: 2025-05-10 02:03:19 -0400 (Sat, 10 May 2025) EllapsedTime: 513.3 seconds RetCode: 1 Status: ERROR CheckDir: MOSClip.Rcheck Warnings: NA