Package: MOFA2 Version: 1.18.0 Command: /Library/Frameworks/R.framework/Resources/bin/R CMD build --keep-empty-dirs --no-resave-data MOFA2 StartedAt: 2025-05-01 20:32:51 -0400 (Thu, 01 May 2025) EndedAt: 2025-05-01 20:42:17 -0400 (Thu, 01 May 2025) EllapsedTime: 566.3 seconds RetCode: 0 Status: OK PackageFile: MOFA2_1.18.0.tar.gz PackageFileSize: 4.355 MiB