Package: MOFA2 Version: 1.18.0 Command: rm -rf MOFA2.buildbin-libdir && mkdir MOFA2.buildbin-libdir && /Users/biocbuild/BBS/utils/build-universal.sh MOFA2_1.18.0.tar.gz /Library/Frameworks/R.framework/Resources/bin/R MOFA2.buildbin-libdir StartedAt: 2025-05-02 13:48:38 -0400 (Fri, 02 May 2025) EndedAt: 2025-05-02 13:49:54 -0400 (Fri, 02 May 2025) EllapsedTime: 76.1 seconds RetCode: 0 Status: OK PackageFile: MOFA2_1.18.0.tgz PackageFileSize: 4.991 MiB