Package: MOFA2 Version: 1.18.0 Command: /Library/Frameworks/R.framework/Resources/bin/R CMD check --install=check:MOFA2.install-out.txt --library=/Library/Frameworks/R.framework/Resources/library --no-vignettes --timings MOFA2_1.18.0.tar.gz StartedAt: 2025-04-21 20:25:05 -0400 (Mon, 21 Apr 2025) EndedAt: 2025-04-21 20:26:29 -0400 (Mon, 21 Apr 2025) EllapsedTime: 83.9 seconds RetCode: 0 Status: WARNINGS CheckDir: MOFA2.Rcheck Warnings: 1