Package: MOFA2 Version: 1.18.0 Command: /Library/Frameworks/R.framework/Resources/bin/R CMD build --keep-empty-dirs --no-resave-data MOFA2 StartedAt: 2025-04-21 17:00:13 -0400 (Mon, 21 Apr 2025) EndedAt: 2025-04-21 17:01:01 -0400 (Mon, 21 Apr 2025) EllapsedTime: 48.6 seconds RetCode: 0 Status: OK PackageFile: MOFA2_1.18.0.tar.gz PackageFileSize: 4.355 MiB