Package: MMDiff2 Version: 1.34.0 Command: /home/biocbuild/bbs-3.20-bioc/R/bin/R CMD check --install=check:MMDiff2.install-out.txt --library=/home/biocbuild/bbs-3.20-bioc/R/site-library --timings MMDiff2_1.34.0.tar.gz StartedAt: 2025-01-31 00:05:09 -0500 (Fri, 31 Jan 2025) EndedAt: 2025-01-31 00:10:50 -0500 (Fri, 31 Jan 2025) EllapsedTime: 340.3 seconds RetCode: 0 Status: OK CheckDir: MMDiff2.Rcheck Warnings: 0