Package: MMDiff2 Version: 1.36.0 Command: /Library/Frameworks/R.framework/Resources/bin/R CMD check --install=check:MMDiff2.install-out.txt --library=/Library/Frameworks/R.framework/Resources/library --no-vignettes --timings MMDiff2_1.36.0.tar.gz StartedAt: 2025-04-21 21:58:22 -0400 (Mon, 21 Apr 2025) EndedAt: 2025-04-21 22:03:39 -0400 (Mon, 21 Apr 2025) EllapsedTime: 316.4 seconds RetCode: 0 Status: OK CheckDir: MMDiff2.Rcheck Warnings: 0