Package: MLSeq Version: 2.24.0 Command: /Library/Frameworks/R.framework/Resources/bin/R CMD INSTALL MLSeq StartedAt: 2025-01-30 16:29:26 -0500 (Thu, 30 Jan 2025) EndedAt: 2025-01-30 16:30:40 -0500 (Thu, 30 Jan 2025) EllapsedTime: 73.8 seconds RetCode: 0 Status: OK