Package: MLSeq Version: 2.26.0 Command: /Library/Frameworks/R.framework/Resources/bin/R CMD INSTALL MLSeq StartedAt: 2025-04-21 15:19:35 -0400 (Mon, 21 Apr 2025) EndedAt: 2025-04-21 15:20:20 -0400 (Mon, 21 Apr 2025) EllapsedTime: 45.5 seconds RetCode: 0 Status: OK