Package: MLSeq Version: 2.26.0 Command: /Library/Frameworks/R.framework/Resources/bin/R CMD check --install=check:MLSeq.install-out.txt --library=/Library/Frameworks/R.framework/Resources/library --no-vignettes --timings MLSeq_2.26.0.tar.gz StartedAt: 2025-04-21 21:58:21 -0400 (Mon, 21 Apr 2025) EndedAt: 2025-04-21 22:02:18 -0400 (Mon, 21 Apr 2025) EllapsedTime: 237.2 seconds RetCode: 0 Status: OK CheckDir: MLSeq.Rcheck Warnings: 0