Package: MLSeq Version: 2.26.0 Command: /home/biocbuild/R/R/bin/R CMD INSTALL MLSeq StartedAt: 2025-04-21 20:34:20 -0000 (Mon, 21 Apr 2025) EndedAt: 2025-04-21 20:35:08 -0000 (Mon, 21 Apr 2025) EllapsedTime: 48.1 seconds RetCode: 0 Status: OK