Package: MLSeq Version: 2.26.0 Command: /Library/Frameworks/R.framework/Resources/bin/R CMD check --install=check:MLSeq.install-out.txt --library=/Library/Frameworks/R.framework/Resources/library --no-vignettes --timings MLSeq_2.26.0.tar.gz StartedAt: 2025-04-21 20:23:54 -0400 (Mon, 21 Apr 2025) EndedAt: 2025-04-21 20:25:19 -0400 (Mon, 21 Apr 2025) EllapsedTime: 85.0 seconds RetCode: 0 Status: OK CheckDir: MLSeq.Rcheck Warnings: 0