Package: MLSeq Version: 2.26.0 Command: rm -rf MLSeq.buildbin-libdir && mkdir MLSeq.buildbin-libdir && /Users/biocbuild/BBS/utils/build-universal.sh MLSeq_2.26.0.tar.gz /Library/Frameworks/R.framework/Resources/bin/R MLSeq.buildbin-libdir StartedAt: 2025-04-21 22:42:40 -0400 (Mon, 21 Apr 2025) EndedAt: 2025-04-21 22:42:54 -0400 (Mon, 21 Apr 2025) EllapsedTime: 14.3 seconds RetCode: 0 Status: OK PackageFile: MLSeq_2.26.0.tgz PackageFileSize: 1.068 MiB