Package: MLSeq Version: 2.26.0 Command: /Library/Frameworks/R.framework/Resources/bin/R CMD check --install=check:MLSeq.install-out.txt --library=/Library/Frameworks/R.framework/Resources/library --no-vignettes --timings MLSeq_2.26.0.tar.gz StartedAt: 2025-05-07 02:12:35 -0400 (Wed, 07 May 2025) EndedAt: 2025-05-07 02:16:49 -0400 (Wed, 07 May 2025) EllapsedTime: 253.5 seconds RetCode: 0 Status: OK CheckDir: MLSeq.Rcheck Warnings: 0