Package: MLSeq Version: 2.26.0 Command: /Library/Frameworks/R.framework/Resources/bin/R CMD build --keep-empty-dirs --no-resave-data MLSeq StartedAt: 2025-05-06 04:10:50 -0400 (Tue, 06 May 2025) EndedAt: 2025-05-06 04:12:48 -0400 (Tue, 06 May 2025) EllapsedTime: 117.8 seconds RetCode: 0 Status: OK PackageFile: MLSeq_2.26.0.tar.gz PackageFileSize: 599.7 KiB