Package: MLP Version: 1.56.0 Command: chmod a+r MLP -R && E:\biocbuild\bbs-3.21-bioc\R\bin\R.exe CMD build --keep-empty-dirs --no-resave-data MLP StartedAt: 2025-08-14 20:29:57 -0400 (Thu, 14 Aug 2025) EndedAt: 2025-08-14 20:31:19 -0400 (Thu, 14 Aug 2025) EllapsedTime: 82.1 seconds RetCode: 0 Status: OK PackageFile: MLP_1.56.0.tar.gz PackageFileSize: 4.137 MiB