Package: MLP Version: 1.56.0 Command: /Library/Frameworks/R.framework/Resources/bin/R CMD INSTALL MLP StartedAt: 2025-04-21 15:25:47 -0400 (Mon, 21 Apr 2025) EndedAt: 2025-04-21 15:26:05 -0400 (Mon, 21 Apr 2025) EllapsedTime: 17.4 seconds RetCode: 0 Status: OK