Package: MLP Version: 1.56.0 Command: /Library/Frameworks/R.framework/Resources/bin/R CMD check --install=check:MLP.install-out.txt --library=/Library/Frameworks/R.framework/Resources/library --no-vignettes --timings MLP_1.56.0.tar.gz StartedAt: 2025-04-21 21:58:08 -0400 (Mon, 21 Apr 2025) EndedAt: 2025-04-21 22:10:13 -0400 (Mon, 21 Apr 2025) EllapsedTime: 724.6 seconds RetCode: 0 Status: OK CheckDir: MLP.Rcheck Warnings: 0