Package: MLP Version: 1.54.0 Command: /Library/Frameworks/R.framework/Resources/bin/R CMD check --install=check:MLP.install-out.txt --library=/Library/Frameworks/R.framework/Resources/library --no-vignettes --timings MLP_1.54.0.tar.gz StartedAt: 2024-11-09 07:26:34 -0500 (Sat, 09 Nov 2024) EndedAt: 2024-11-09 07:32:46 -0500 (Sat, 09 Nov 2024) EllapsedTime: 371.7 seconds RetCode: 1 Status: ERROR CheckDir: MLP.Rcheck Warnings: NA