Package: MLP Version: 1.56.0 Command: /Library/Frameworks/R.framework/Resources/bin/R CMD build --keep-empty-dirs --no-resave-data MLP StartedAt: 2025-04-21 16:59:24 -0400 (Mon, 21 Apr 2025) EndedAt: 2025-04-21 16:59:52 -0400 (Mon, 21 Apr 2025) EllapsedTime: 27.3 seconds RetCode: 0 Status: OK PackageFile: MLP_1.56.0.tar.gz PackageFileSize: 4.285 MiB