Package: MLP Version: 1.54.0 Command: rm -rf MLP.buildbin-libdir && mkdir MLP.buildbin-libdir && /Users/biocbuild/BBS/utils/build-universal.sh MLP_1.54.0.tar.gz /Library/Frameworks/R.framework/Resources/bin/R MLP.buildbin-libdir StartedAt: 2024-11-09 16:59:25 -0500 (Sat, 09 Nov 2024) EndedAt: 2024-11-09 16:59:31 -0500 (Sat, 09 Nov 2024) EllapsedTime: 6.1 seconds RetCode: 0 Status: OK PackageFile: MLP_1.54.0.tgz PackageFileSize: 4.337 MiB