Package: MLP Version: 1.56.0 Command: /Library/Frameworks/R.framework/Resources/bin/R CMD check --install=check:MLP.install-out.txt --library=/Library/Frameworks/R.framework/Resources/library --no-vignettes --timings MLP_1.56.0.tar.gz StartedAt: 2025-05-03 02:04:34 -0400 (Sat, 03 May 2025) EndedAt: 2025-05-03 02:15:11 -0400 (Sat, 03 May 2025) EllapsedTime: 637.2 seconds RetCode: 1 Status: ERROR CheckDir: MLP.Rcheck Warnings: NA