Package: MLP Version: 1.56.0 Maintainer: Tobias Verbeke MaintainerEmail: tobias.verbeke at openanalytics.eu git_url: https://git.bioconductor.org/packages/MLP git_branch: RELEASE_3_21 git_last_commit: 8183b53 git_last_commit_date: 2025-04-15 10:01:18 -0400 (Tue, 15 Apr 2025)