Package: MLInterfaces Version: 1.88.0 Maintainer: Vincent Carey MaintainerEmail: stvjc at channing.harvard.edu git_url: https://git.bioconductor.org/packages/MLInterfaces git_branch: RELEASE_3_21 git_last_commit: efb5781 git_last_commit_date: 2025-04-15 09:35:00 -0400 (Tue, 15 Apr 2025)