Package: MIRit Version: 1.2.0 Command: /home/biocbuild/R/R/bin/R CMD check --install=check:MIRit.install-out.txt --library=/home/biocbuild/R/R/site-library --no-vignettes --timings MIRit_1.2.0.tar.gz StartedAt: 2025-01-31 08:09:16 -0000 (Fri, 31 Jan 2025) EndedAt: 2025-01-31 08:13:47 -0000 (Fri, 31 Jan 2025) EllapsedTime: 271.4 seconds RetCode: 0 Status: OK CheckDir: MIRit.Rcheck Warnings: 0