Package: MIRit Version: 1.2.0 Command: /home/biocbuild/R/R/bin/R CMD INSTALL MIRit StartedAt: 2024-11-19 21:29:19 -0000 (Tue, 19 Nov 2024) EndedAt: 2024-11-19 21:30:18 -0000 (Tue, 19 Nov 2024) EllapsedTime: 59.4 seconds RetCode: 0 Status: OK