Package: MIRit Version: 1.4.1 Command: /Library/Frameworks/R.framework/Resources/bin/R CMD INSTALL MIRit StartedAt: 2025-05-05 17:42:36 -0400 (Mon, 05 May 2025) EndedAt: 2025-05-05 17:43:23 -0400 (Mon, 05 May 2025) EllapsedTime: 47.0 seconds RetCode: 0 Status: OK