Package: MIRit Version: 1.4.1 Command: /Library/Frameworks/R.framework/Resources/bin/R CMD build --keep-empty-dirs --no-resave-data MIRit StartedAt: 2025-05-06 03:55:40 -0400 (Tue, 06 May 2025) EndedAt: 2025-05-06 03:57:05 -0400 (Tue, 06 May 2025) EllapsedTime: 85.0 seconds RetCode: 0 Status: OK PackageFile: MIRit_1.4.1.tar.gz PackageFileSize: 2.718 MiB