Package: MIRA Version: 1.28.0 Command: rm -rf MIRA.buildbin-libdir && mkdir MIRA.buildbin-libdir && F:\biocbuild\bbs-3.20-bioc\R\bin\R.exe CMD INSTALL --build --library=MIRA.buildbin-libdir MIRA_1.28.0.tar.gz StartedAt: 2025-01-03 08:43:49 -0500 (Fri, 03 Jan 2025) EndedAt: 2025-01-03 08:44:33 -0500 (Fri, 03 Jan 2025) EllapsedTime: 43.7 seconds RetCode: 0 Status: OK PackageFile: MIRA_1.28.0.zip PackageFileSize: 1.804 MiB