Package: MIRA Version: 1.30.0 Command: /home/biocbuild/bbs-3.21-bioc/R/bin/R CMD build --keep-empty-dirs --no-resave-data MIRA StartedAt: 2025-09-28 18:45:23 -0400 (Sun, 28 Sep 2025) EndedAt: 2025-09-28 18:46:32 -0400 (Sun, 28 Sep 2025) EllapsedTime: 69.0 seconds RetCode: 0 Status: OK PackageFile: MIRA_1.30.0.tar.gz PackageFileSize: 2.506 MiB