Package: MGnifyR Version: 1.2.0 Command: /home/biocbuild/R/R/bin/R CMD build --keep-empty-dirs --no-resave-data MGnifyR StartedAt: 2025-01-31 00:53:04 -0000 (Fri, 31 Jan 2025) EndedAt: 2025-01-31 00:54:44 -0000 (Fri, 31 Jan 2025) EllapsedTime: 100.0 seconds RetCode: 0 Status: OK PackageFile: MGnifyR_1.2.0.tar.gz PackageFileSize: 4.046 MiB