Package: MGFM Version: 1.40.0 Command: /home/biocbuild/R/R/bin/R CMD INSTALL MGFM StartedAt: 2025-01-30 20:22:57 -0000 (Thu, 30 Jan 2025) EndedAt: 2025-01-30 20:23:14 -0000 (Thu, 30 Jan 2025) EllapsedTime: 16.2 seconds RetCode: 0 Status: OK