Package: MGFM Version: 1.42.0 Command: /home/biocbuild/bbs-3.21-bioc/R/bin/R CMD build --keep-empty-dirs --no-resave-data MGFM StartedAt: 2025-09-28 18:42:43 -0400 (Sun, 28 Sep 2025) EndedAt: 2025-09-28 18:43:09 -0400 (Sun, 28 Sep 2025) EllapsedTime: 26.0 seconds RetCode: 0 Status: OK PackageFile: MGFM_1.42.0.tar.gz PackageFileSize: 3.491 MiB