Package: MGFM Version: 1.40.0 Command: /Library/Frameworks/R.framework/Resources/bin/R CMD INSTALL MGFM StartedAt: 2025-01-30 15:32:39 -0500 (Thu, 30 Jan 2025) EndedAt: 2025-01-30 15:33:10 -0500 (Thu, 30 Jan 2025) EllapsedTime: 31.4 seconds RetCode: 0 Status: OK