Package: MGFM Version: 1.40.0 Command: /Library/Frameworks/R.framework/Resources/bin/R CMD INSTALL MGFM StartedAt: 2025-01-30 15:44:36 -0500 (Thu, 30 Jan 2025) EndedAt: 2025-01-30 15:44:51 -0500 (Thu, 30 Jan 2025) EllapsedTime: 15.2 seconds RetCode: 0 Status: OK