Package: MGFM Version: 1.40.0 Command: /Library/Frameworks/R.framework/Resources/bin/R CMD check --install=check:MGFM.install-out.txt --library=/Library/Frameworks/R.framework/Resources/library --no-vignettes --timings MGFM_1.40.0.tar.gz StartedAt: 2025-02-01 00:57:59 -0500 (Sat, 01 Feb 2025) EndedAt: 2025-02-01 00:59:50 -0500 (Sat, 01 Feb 2025) EllapsedTime: 111.0 seconds RetCode: 0 Status: OK CheckDir: MGFM.Rcheck Warnings: 0