Package: MEIGOR Version: 1.42.0 Command: /home/biocbuild/bbs-3.21-bioc/R/bin/R CMD build --keep-empty-dirs --no-resave-data MEIGOR StartedAt: 2025-09-28 18:35:36 -0400 (Sun, 28 Sep 2025) EndedAt: 2025-09-28 18:36:23 -0400 (Sun, 28 Sep 2025) EllapsedTime: 47.0 seconds RetCode: 0 Status: OK PackageFile: MEIGOR_1.42.0.tar.gz PackageFileSize: 1.576 MiB