Package: MEIGOR Version: 1.40.0 Command: /Library/Frameworks/R.framework/Resources/bin/R CMD build --keep-empty-dirs --no-resave-data MEIGOR StartedAt: 2025-01-02 20:00:51 -0500 (Thu, 02 Jan 2025) EndedAt: 2025-01-02 20:02:41 -0500 (Thu, 02 Jan 2025) EllapsedTime: 109.1 seconds RetCode: 0 Status: OK PackageFile: MEIGOR_1.40.0.tar.gz PackageFileSize: 1.809 MiB