Package: MEDME Version: 1.66.0 Command: /home/biocbuild/R/R/bin/R CMD INSTALL MEDME StartedAt: 2025-01-30 20:55:49 -0000 (Thu, 30 Jan 2025) EndedAt: 2025-01-30 20:56:07 -0000 (Thu, 30 Jan 2025) EllapsedTime: 18.0 seconds RetCode: 0 Status: OK