Package: MEDME Version: 1.66.0 Command: /home/biocbuild/R/R/bin/R CMD build --keep-empty-dirs --no-resave-data MEDME StartedAt: 2025-02-04 00:44:55 -0000 (Tue, 04 Feb 2025) EndedAt: 2025-02-04 00:45:34 -0000 (Tue, 04 Feb 2025) EllapsedTime: 39.0 seconds RetCode: 0 Status: OK PackageFile: MEDME_1.66.0.tar.gz PackageFileSize: 442 KiB