Package: MEDIPS Version: 1.60.0 Command: /Library/Frameworks/R.framework/Resources/bin/R CMD INSTALL MEDIPS StartedAt: 2025-04-21 15:27:30 -0400 (Mon, 21 Apr 2025) EndedAt: 2025-04-21 15:28:22 -0400 (Mon, 21 Apr 2025) EllapsedTime: 52.3 seconds RetCode: 0 Status: OK