Package: MEDIPS Version: 1.60.0 Command: rm -rf MEDIPS.buildbin-libdir && mkdir MEDIPS.buildbin-libdir && /Users/biocbuild/BBS/utils/build-universal.sh MEDIPS_1.60.0.tar.gz /Library/Frameworks/R.framework/Resources/bin/R MEDIPS.buildbin-libdir StartedAt: 2025-04-22 00:53:27 -0400 (Tue, 22 Apr 2025) EndedAt: 2025-04-22 00:54:26 -0400 (Tue, 22 Apr 2025) EllapsedTime: 58.9 seconds RetCode: 0 Status: OK PackageFile: MEDIPS_1.60.0.tgz PackageFileSize: 748.8 KiB