Package: MEB Version: 1.22.0 Command: /Library/Frameworks/R.framework/Resources/bin/R CMD INSTALL MEB StartedAt: 2025-05-22 16:39:18 -0400 (Thu, 22 May 2025) EndedAt: 2025-05-22 16:40:19 -0400 (Thu, 22 May 2025) EllapsedTime: 60.6 seconds RetCode: 0 Status: OK